BEGIN:VCALENDAR
VERSION:2.0
PRODID:-//Chance for Childhood - ECPv6.15.17.1//NONSGML v1.0//EN
CALSCALE:GREGORIAN
METHOD:PUBLISH
X-WR-CALNAME:Chance for Childhood
X-ORIGINAL-URL:https://cfc.charitywebdesigns.co.uk
X-WR-CALDESC:Events for Chance for Childhood
REFRESH-INTERVAL;VALUE=DURATION:PT1H
X-Robots-Tag:noindex
X-PUBLISHED-TTL:PT1H
BEGIN:VTIMEZONE
TZID:UTC
BEGIN:STANDARD
TZOFFSETFROM:+0000
TZOFFSETTO:+0000
TZNAME:UTC
DTSTART:20250101T000000
END:STANDARD
END:VTIMEZONE
BEGIN:VEVENT
DTSTART;VALUE=DATE:20260426
DTEND;VALUE=DATE:20260427
DTSTAMP:20260422T095408
CREATED:20241127T160856Z
LAST-MODIFIED:20260126T112640Z
UID:1750-1777161600-1777247999@cfc.charitywebdesigns.co.uk
SUMMARY:London Marathon
DESCRIPTION:2026 Sold Out \nThe London Marathon first took place in 1981 and has become one of the most popular marathons in the world. The route takes in many of London’s best landmarks including Buckingham Palace\, The Cutty Sark\, Tower Bridge and Canary Wharf. \nDetails:\nRegistration Fee – £150\nFundraising Target – £2500\nFree T Shirt or Running vest and full fundraising support given.
URL:https://cfc.charitywebdesigns.co.uk/event/london-marathon/
LOCATION:Blackheath to The Mall
CATEGORIES:Featured,Take on a challenge
ATTACH;FMTTYPE=image/jpeg:https://cfc.charitywebdesigns.co.uk/wp-content/uploads/2024/11/AdobeStock_129753450-scaled.jpeg
END:VEVENT
END:VCALENDAR